BEGIN:VCALENDAR
VERSION:2.0
PRODID:-//hacksw/handcal//NONSGML v1.0//EN
BEGIN:VEVENT
DTSTART:20260604T093000
DTEND:20260604T120000
LOCATION:131 Rue du 1er Mai \n92000  Nanterre
ORGANIZER;CN=Carole Goube:MAILTO:association@mines-nancy.org
SUMMARY:Visite du Musée scientifique (MEGE) de la Mémoire de l'Electricité, du Gaz et de l'Eclairage public à Nanterre (92)
DESCRIPTION:Bonjour,Mines Nancy Alumni invite son réseau à une visite guidée exceptionnelledu Musée de la Mémoire de l'Electricité, du Gaz et de l'Eclairage public\n📍 131 Rue du 1er Mai, 92000 Nanterre📅 Jeudi 4...
URL:https://mines-nancy.org/fr/event/visite-du-musee-scientifique-mege-de-la-memoire-de-l-electricite-du-gaz-et-de-l-eclairage-public-a-nanterre-92/2026/06/04/705
BEGIN:VALARM
TRIGGER:-P0DT1H0M0S
ACTION:DISPLAY
END:VALARM
END:VEVENT
END:VCALENDAR