BEGIN:VCALENDAR
VERSION:2.0
PRODID:-//hacksw/handcal//NONSGML v1.0//EN
BEGIN:VEVENT
DTSTART:20260509T083000
DTEND:20260509T180000
LOCATION:Salle polyvalente à  Maron \nPlace Charles De Gaulle \n54 230 Maron
ORGANIZER;CN=Carole Goube:MAILTO:association@mines-nancy.org
SUMMARY:Raid Mines Nancy 2026 le Samedi 9 Mai 2026 dans la commune de Maron (54230)
DESCRIPTION:Bonjour, \nNous sommes une association étudiante "Le RAID Mines Nancy" chargée d’organiser chaque année une course sportive multi-épreuves en Lorraine. \nNotre évènement se déroulera le Samedi 9 Mai...
URL:https://mines-nancy.org/fr/event/raid-mines-nancy-2026-le-samedi-9-mai-2026-dans-la-commune-de-maron-54230/2026/05/09/746
BEGIN:VALARM
TRIGGER:-P0DT1H0M0S
ACTION:DISPLAY
END:VALARM
END:VEVENT
END:VCALENDAR